BEGIN:VCALENDAR
VERSION:2.0
PRODID:-//TYPO3/NONSGML News system (news)//EN
CALSCALE:GREGORIAN
METHOD:PUBLISH
BEGIN:VEVENT
UID:news-116062@lurnfeld.gv.at

DTSTAMP:20260421T160029Z



DTSTART;TZID=Europe/Vienna:20260501T000000
DTEND;TZID=Europe/Vienna:20260501T000000

SUMMARY:Maifeier am Kirchplatz Pusarnitz
DESCRIPTION:mit der FF Pusarnitz

LOCATION:


END:VEVENT
END:VCALENDAR
