BEGIN:VCALENDAR
VERSION:2.0
PRODID:-//TYPO3/NONSGML News system (news)//EN
CALSCALE:GREGORIAN
METHOD:PUBLISH
BEGIN:VEVENT
UID:news-81829@lurnfeld.gv.at

DTSTAMP:20260421T114604Z



DTSTART;TZID=Europe/Vienna:20260501T000000
DTEND;TZID=Europe/Vienna:20260501T000000

SUMMARY:Maifeier in Stöcklern
DESCRIPTION:veranstaltet von der Stöcklinger Dorfgemeinschaft

LOCATION:


END:VEVENT
END:VCALENDAR
